BEGIN:VCALENDAR
VERSION:2.0
PRODID:-//wp-events-plugin.com//6.6.4.4//EN
BEGIN:VEVENT
UID:4780@hotforhometours.com
DTSTART:20250412T000000Z
DTEND:20250412T000000Z
DTSTAMP:20250107T034428Z
URL:https://hotforhometours.com/events/aia-architecture-tour-2/
SUMMARY:AIA Architecture Tour
DESCRIPTION:
CATEGORIES:Home Tour
LOCATION:AIA Central Oklahoma Chapter\, 2220 N. Classen Blvd\, Oklahoma Cit
 y\, OK\, 73106\, United States
X-APPLE-STRUCTURED-LOCATION;VALUE=URI;X-ADDRESS=2220 N. Classen Blvd\, Okla
 homa City\, OK\, 73106\, United States;X-APPLE-RADIUS=100;X-TITLE=AIA Cent
 ral Oklahoma Chapter:geo:0,0
END:VEVENT
END:VCALENDAR