BEGIN:VCALENDAR
VERSION:2.0
PRODID:-//wp-events-plugin.com//6.6.4.4//EN
BEGIN:VEVENT
UID:4565@hotforhometours.com
DTSTART;VALUE=DATE:20221217
DTEND;VALUE=DATE:20221218
DTSTAMP:20230901T224746Z
URL:https://hotforhometours.com/events/christmas-tour-of-homes-6/
SUMMARY:Christmas Tour of Homes
DESCRIPTION:
CATEGORIES:Home Tour
LOCATION:Natchitoches Historic Foundation\, P.O. Box 2351\, Natchitoches\, 
 LA\, 71457\, United States
GEO:31.76072;-93.086275
X-APPLE-STRUCTURED-LOCATION;VALUE=URI;X-ADDRESS=P.O. Box 2351\, Natchitoche
 s\, LA\, 71457\, United States;X-APPLE-RADIUS=100;X-TITLE=Natchitoches His
 toric Foundation:geo:31.76072,-93.086275
END:VEVENT
END:VCALENDAR