BEGIN:VCALENDAR
VERSION:2.0
PRODID:-//wp-events-plugin.com//6.6.4.4//EN
BEGIN:VEVENT
UID:4643@hotforhometours.com
DTSTART;VALUE=DATE:20231007
DTEND;VALUE=DATE:20231008
DTSTAMP:20230901T231837Z
URL:https://hotforhometours.com/events/damien-home-tour/
SUMMARY:Damien Home Tour
DESCRIPTION:
CATEGORIES:Home Tour
LOCATION:Damien Society\, 700 Summit Avenue\, Detroit Lakes\, MN\, 56501\, 
 United States
GEO:46.819228;-95.849894
X-APPLE-STRUCTURED-LOCATION;VALUE=URI;X-ADDRESS=700 Summit Avenue\, Detroit
  Lakes\, MN\, 56501\, United States;X-APPLE-RADIUS=100;X-TITLE=Damien Soci
 ety:geo:46.819228,-95.849894
END:VEVENT
END:VCALENDAR