BEGIN:VCALENDAR
VERSION:2.0
PRODID:-//wp-events-plugin.com//6.6.4.4//EN
BEGIN:VEVENT
UID:4860@hotforhometours.com
DTSTART:20240510T000000Z
DTEND:20240510T000000Z
DTSTAMP:20250107T034435Z
URL:https://hotforhometours.com/events/historic-home-tour-6/
SUMMARY:Historic Home Tour
DESCRIPTION:
CATEGORIES:Home Tour
LOCATION:Park Cities Historic and Preservation Society\, Park Cities Histor
 ic and Preservation Society\, Dallas\, TX\, 75205\, United States
X-APPLE-STRUCTURED-LOCATION;VALUE=URI;X-ADDRESS=Park Cities Historic and Pr
 eservation Society\, Dallas\, TX\, 75205\, United States;X-APPLE-RADIUS=10
 0;X-TITLE=Park Cities Historic and Preservation Society:geo:0,0
END:VEVENT
END:VCALENDAR