BEGIN:VCALENDAR
VERSION:2.0
PRODID:-//wp-events-plugin.com//6.6.4.4//EN
BEGIN:VEVENT
UID:4782@hotforhometours.com
DTSTART:20250329T000000Z
DTEND:20250330T000000Z
DTSTAMP:20250107T034428Z
URL:https://hotforhometours.com/events/historic-tyler-candlelight-home-tou
 r-2/
SUMMARY:Historic Tyler Candlelight Home Tour
DESCRIPTION:
CATEGORIES:Home Tour
LOCATION:Historic Tyler\, Inc.\, 110 E. Charnwood St.\, Tyler\, TX\, 75701\
 , United States
X-APPLE-STRUCTURED-LOCATION;VALUE=URI;X-ADDRESS=110 E. Charnwood St.\, Tyle
 r\, TX\, 75701\, United States;X-APPLE-RADIUS=100;X-TITLE=Historic Tyler\,
  Inc.:geo:0,0
END:VEVENT
END:VCALENDAR