BEGIN:VCALENDAR
VERSION:2.0
PRODID:-//wp-events-plugin.com//6.6.4.4//EN
BEGIN:VEVENT
UID:4515@hotforhometours.com
DTSTART;VALUE=DATE:20221201
DTEND;VALUE=DATE:20221211
DTSTAMP:20230901T210027Z
URL:https://hotforhometours.com/events/jefferson-candleight-tour-of-homes/
SUMMARY:Jefferson Candleight Tour of Homes
DESCRIPTION:
CATEGORIES:Home Tour
LOCATION:Jefferson Candlelight Tour of Homes\, 116 W. Austin Street\, Jeffe
 rson\, TX\, 75657\, United States
GEO:32.756132;-94.344779
X-APPLE-STRUCTURED-LOCATION;VALUE=URI;X-ADDRESS=116 W. Austin Street\, Jeff
 erson\, TX\, 75657\, United States;X-APPLE-RADIUS=100;X-TITLE=Jefferson Ca
 ndlelight Tour of Homes:geo:32.756132,-94.344779
END:VEVENT
END:VCALENDAR