BEGIN:VCALENDAR
VERSION:2.0
PRODID:-//wp-events-plugin.com//6.6.4.4//EN
BEGIN:VEVENT
UID:4887@hotforhometours.com
DTSTART:20230402T000000Z
DTEND:20230402T000000Z
DTSTAMP:20250107T034437Z
URL:https://hotforhometours.com/events/old-seminole-heights-annual-home-to
 ur-2/
SUMMARY:Old Seminole Heights Annual Home Tour
DESCRIPTION:
CATEGORIES:Home Tour
LOCATION:Old Seminole Heights Neighborhood Association\, Old Seminole Heigh
 ts Neighborhood Association\, Tampa\, FL\, 33603\, United States
X-APPLE-STRUCTURED-LOCATION;VALUE=URI;X-ADDRESS=Old Seminole Heights Neighb
 orhood Association\, Tampa\, FL\, 33603\, United States;X-APPLE-RADIUS=100
 ;X-TITLE=Old Seminole Heights Neighborhood Association:geo:0,0
END:VEVENT
END:VCALENDAR