BEGIN:VCALENDAR
VERSION:2.0
PRODID:-//wp-events-plugin.com//6.6.4.4//EN
BEGIN:VEVENT
UID:4681@hotforhometours.com
DTSTART:20241215T000000Z
DTEND:20241215T000000Z
DTSTAMP:20241201T162557Z
URL:https://hotforhometours.com/events/tour-of-homes-and-holiday-market-2/
SUMMARY:Tour of Homes and Holiday Market
DESCRIPTION:
CATEGORIES:Home Tour
LOCATION:21 North Avondale Plaza\, 21 North Avondale Plaza\, Avondale Estat
 es\, GA\, 30002\, United States
X-APPLE-STRUCTURED-LOCATION;VALUE=URI;X-ADDRESS=21 North Avondale Plaza\, A
 vondale Estates\, GA\, 30002\, United States;X-APPLE-RADIUS=100;X-TITLE=21
  North Avondale Plaza:geo:0,0
END:VEVENT
END:VCALENDAR